BEGIN:VCALENDAR
VERSION:2.0
PRODID:-//Te Ataarangi Te Reo - ECPv6.15.20//NONSGML v1.0//EN
CALSCALE:GREGORIAN
METHOD:PUBLISH
X-WR-CALNAME:Te Ataarangi Te Reo
X-ORIGINAL-URL:https://www.tereomaori.org
X-WR-CALDESC:Events for Te Ataarangi Te Reo
REFRESH-INTERVAL;VALUE=DURATION:PT1H
X-Robots-Tag:noindex
X-PUBLISHED-TTL:PT1H
BEGIN:VTIMEZONE
TZID:Pacific/Auckland
BEGIN:STANDARD
TZOFFSETFROM:+1300
TZOFFSETTO:+1200
TZNAME:NZST
DTSTART:20230401T140000
END:STANDARD
BEGIN:DAYLIGHT
TZOFFSETFROM:+1200
TZOFFSETTO:+1300
TZNAME:NZDT
DTSTART:20230923T140000
END:DAYLIGHT
BEGIN:STANDARD
TZOFFSETFROM:+1300
TZOFFSETTO:+1200
TZNAME:NZST
DTSTART:20240406T140000
END:STANDARD
BEGIN:DAYLIGHT
TZOFFSETFROM:+1200
TZOFFSETTO:+1300
TZNAME:NZDT
DTSTART:20240928T140000
END:DAYLIGHT
BEGIN:STANDARD
TZOFFSETFROM:+1300
TZOFFSETTO:+1200
TZNAME:NZST
DTSTART:20250405T140000
END:STANDARD
BEGIN:DAYLIGHT
TZOFFSETFROM:+1200
TZOFFSETTO:+1300
TZNAME:NZDT
DTSTART:20250927T140000
END:DAYLIGHT
END:VTIMEZONE
BEGIN:VEVENT
DTSTART;TZID=Pacific/Auckland:20240802T160000
DTEND;TZID=Pacific/Auckland:20240804T103000
DTSTAMP:20260426T044704
CREATED:20240129T231400Z
LAST-MODIFIED:20240129T231400Z
UID:1711-1722614400-1722767400@www.tereomaori.org
SUMMARY:Te Rākau Tupu - Noho Marae #3
DESCRIPTION:TE RĀKAU TUPU O TE ATAARANGI KI TE TAUIHU O TE WAKA-A-MĀUI- A national tutor training and vocational guidance pathway under the rohe o Te Tauihu o te Waka-a-Maui Inc.  This wānanga covers the philosophies\, values and demonstrations of Te Ataarangi learning and teaching methods that has been shared across the country and beyond since the late 1970s. \nNOHO MARAE 3 –Omaka Marae – Pōwhiri Fri 4pm – Poroaki Sun 10.30am
URL:https://www.tereomaori.org/event/te-rakau-tupu-noho-marae-3/
LOCATION:Omaka Marae\, Aerodrome Road\, Burleigh\, Blenheim\, Blenheim\, 7272\, New Zealand
CATEGORIES:Whakangungu Kaiwhakaako
ATTACH;FMTTYPE=image/jpeg:https://www.tereomaori.org/wp-content/uploads/sites/396/2022/12/Tutor-Training-Banner-2.jpg
END:VEVENT
END:VCALENDAR