BEGIN:VCALENDAR
VERSION:2.0
PRODID:-//Te Ataarangi Te Reo - ECPv6.15.20//NONSGML v1.0//EN
CALSCALE:GREGORIAN
METHOD:PUBLISH
X-WR-CALNAME:Te Ataarangi Te Reo
X-ORIGINAL-URL:https://www.tereomaori.org
X-WR-CALDESC:Events for Te Ataarangi Te Reo
REFRESH-INTERVAL;VALUE=DURATION:PT1H
X-Robots-Tag:noindex
X-PUBLISHED-TTL:PT1H
BEGIN:VTIMEZONE
TZID:Pacific/Auckland
BEGIN:STANDARD
TZOFFSETFROM:+1300
TZOFFSETTO:+1200
TZNAME:NZST
DTSTART:20220402T140000
END:STANDARD
BEGIN:DAYLIGHT
TZOFFSETFROM:+1200
TZOFFSETTO:+1300
TZNAME:NZDT
DTSTART:20220924T140000
END:DAYLIGHT
BEGIN:STANDARD
TZOFFSETFROM:+1300
TZOFFSETTO:+1200
TZNAME:NZST
DTSTART:20230401T140000
END:STANDARD
BEGIN:DAYLIGHT
TZOFFSETFROM:+1200
TZOFFSETTO:+1300
TZNAME:NZDT
DTSTART:20230923T140000
END:DAYLIGHT
BEGIN:STANDARD
TZOFFSETFROM:+1300
TZOFFSETTO:+1200
TZNAME:NZST
DTSTART:20240406T140000
END:STANDARD
BEGIN:DAYLIGHT
TZOFFSETFROM:+1200
TZOFFSETTO:+1300
TZNAME:NZDT
DTSTART:20240928T140000
END:DAYLIGHT
END:VTIMEZONE
BEGIN:VEVENT
DTSTART;VALUE=DATE:20230910
DTEND;VALUE=DATE:20230911
DTSTAMP:20260426T002042
CREATED:20230717T205500Z
LAST-MODIFIED:20230717T205500Z
UID:1610-1694304000-1694390399@www.tereomaori.org
SUMMARY:Kotahi o Te Tauihu Tamariki Day- Tākaka
DESCRIPTION:
URL:https://www.tereomaori.org/event/kotahi-o-te-tauihu-tamariki-day-takaka/
LOCATION:Rec Park Centre\, 2032 Takaka Valley Highway\, Takaka\, 7110\, New Zealand
CATEGORIES:Hapori
ATTACH;FMTTYPE=image/jpeg:https://www.tereomaori.org/wp-content/uploads/sites/396/2023/07/TeKotahiTrustLOGO.jpg
END:VEVENT
END:VCALENDAR