BEGIN:VCALENDAR
VERSION:2.0
PRODID:-//Te Ataarangi Te Reo - ECPv6.15.20//NONSGML v1.0//EN
CALSCALE:GREGORIAN
METHOD:PUBLISH
X-WR-CALNAME:Te Ataarangi Te Reo
X-ORIGINAL-URL:https://www.tereomaori.org
X-WR-CALDESC:Events for Te Ataarangi Te Reo
REFRESH-INTERVAL;VALUE=DURATION:PT1H
X-Robots-Tag:noindex
X-PUBLISHED-TTL:PT1H
BEGIN:VTIMEZONE
TZID:Pacific/Auckland
BEGIN:STANDARD
TZOFFSETFROM:+1300
TZOFFSETTO:+1200
TZNAME:NZST
DTSTART:20240406T140000
END:STANDARD
BEGIN:DAYLIGHT
TZOFFSETFROM:+1200
TZOFFSETTO:+1300
TZNAME:NZDT
DTSTART:20240928T140000
END:DAYLIGHT
BEGIN:STANDARD
TZOFFSETFROM:+1300
TZOFFSETTO:+1200
TZNAME:NZST
DTSTART:20250405T140000
END:STANDARD
BEGIN:DAYLIGHT
TZOFFSETFROM:+1200
TZOFFSETTO:+1300
TZNAME:NZDT
DTSTART:20250927T140000
END:DAYLIGHT
BEGIN:STANDARD
TZOFFSETFROM:+1300
TZOFFSETTO:+1200
TZNAME:NZST
DTSTART:20260404T140000
END:STANDARD
BEGIN:DAYLIGHT
TZOFFSETFROM:+1200
TZOFFSETTO:+1300
TZNAME:NZDT
DTSTART:20260926T140000
END:DAYLIGHT
END:VTIMEZONE
BEGIN:VEVENT
DTSTART;VALUE=DATE:20250328
DTEND;VALUE=DATE:20250331
DTSTAMP:20260423T105055
CREATED:20241211T202516Z
LAST-MODIFIED:20241211T202516Z
UID:2165-1743120000-1743379199@www.tereomaori.org
SUMMARY:Oranga Reo - Onetahua
DESCRIPTION:ORANGA REO – based on extended rumaki sessions in community venues / marae includes four progressive courses\, for those with a strong reo foundation and are generally held for 2 – 7 days.
URL:https://www.tereomaori.org/event/oranga-reo-onetahua-5/
LOCATION:Onetahua Marae\, 7183/72 Pohara Valley Road\,\, Pohara\, 7183\, New Zealand
CATEGORIES:Noho Rumaki
ATTACH;FMTTYPE=image/jpeg:https://www.tereomaori.org/wp-content/uploads/sites/396/2022/12/Noho-Rumaki_Community-Banner.jpg
END:VEVENT
END:VCALENDAR